Package: diffHic Version: 1.40.0 Command: /home/biocbuild/R/R/bin/R CMD INSTALL diffHic StartedAt: 2025-09-29 20:48:24 -0000 (Mon, 29 Sep 2025) EndedAt: 2025-09-29 20:50:44 -0000 (Mon, 29 Sep 2025) EllapsedTime: 140.1 seconds RetCode: 0 Status: OK