Package: diffHic Version: 1.40.0 Command: /home/biocbuild/R/R/bin/R CMD build --keep-empty-dirs --no-resave-data diffHic StartedAt: 2025-09-30 00:26:54 -0000 (Tue, 30 Sep 2025) EndedAt: 2025-09-30 00:29:10 -0000 (Tue, 30 Sep 2025) EllapsedTime: 136.0 seconds RetCode: 0 Status: OK PackageFile: diffHic_1.40.0.tar.gz PackageFileSize: 1.513 MiB