Package: diffGeneAnalysis Version: 1.90.0 Command: /home/biocbuild/bbs-3.21-bioc/R/bin/R CMD INSTALL diffGeneAnalysis StartedAt: 2025-10-12 15:04:30 -0400 (Sun, 12 Oct 2025) EndedAt: 2025-10-12 15:04:39 -0400 (Sun, 12 Oct 2025) EllapsedTime: 9.0 seconds RetCode: 0 Status: OK