Package: diffGeneAnalysis Version: 1.90.0 Command: /Library/Frameworks/R.framework/Resources/bin/R CMD INSTALL diffGeneAnalysis StartedAt: 2025-10-02 15:15:07 -0400 (Thu, 02 Oct 2025) EndedAt: 2025-10-02 15:15:09 -0400 (Thu, 02 Oct 2025) EllapsedTime: 2.5 seconds RetCode: 0 Status: OK