Package: diffGeneAnalysis Version: 1.90.0 Command: /Library/Frameworks/R.framework/Resources/bin/R CMD build --keep-empty-dirs --no-resave-data diffGeneAnalysis StartedAt: 2025-10-02 23:19:02 -0400 (Thu, 02 Oct 2025) EndedAt: 2025-10-02 23:19:11 -0400 (Thu, 02 Oct 2025) EllapsedTime: 9.2 seconds RetCode: 0 Status: OK PackageFile: diffGeneAnalysis_1.90.0.tar.gz PackageFileSize: 213.2 KiB