Package: compcodeR Version: 1.44.0 Command: /home/biocbuild/R/R/bin/R CMD INSTALL compcodeR StartedAt: 2025-10-06 20:19:01 -0000 (Mon, 06 Oct 2025) EndedAt: 2025-10-06 20:19:35 -0000 (Mon, 06 Oct 2025) EllapsedTime: 33.8 seconds RetCode: 0 Status: OK