Package: compcodeR Version: 1.44.0 Command: /home/biocbuild/R/R/bin/R CMD build --keep-empty-dirs --no-resave-data compcodeR StartedAt: 2025-10-06 23:50:19 -0000 (Mon, 06 Oct 2025) EndedAt: 2025-10-06 23:50:47 -0000 (Mon, 06 Oct 2025) EllapsedTime: 28.0 seconds RetCode: 0 Status: OK PackageFile: compcodeR_1.44.0.tar.gz PackageFileSize: 4.78 MiB