Package: annotate Version: 1.86.1 Command: /home/biocbuild/R/R/bin/R CMD INSTALL annotate StartedAt: 2025-10-02 20:41:24 -0000 (Thu, 02 Oct 2025) EndedAt: 2025-10-02 20:41:46 -0000 (Thu, 02 Oct 2025) EllapsedTime: 22.0 seconds RetCode: 0 Status: OK