Package: VCFArray Version: 1.24.0 Command: /home/biocbuild/R/R/bin/R CMD INSTALL VCFArray StartedAt: 2025-10-13 21:14:02 -0000 (Mon, 13 Oct 2025) EndedAt: 2025-10-13 21:15:06 -0000 (Mon, 13 Oct 2025) EllapsedTime: 64.1 seconds RetCode: 0 Status: OK