Package: VCFArray Version: 1.24.0 Command: /home/biocbuild/R/R/bin/R CMD build --keep-empty-dirs --no-resave-data VCFArray StartedAt: 2025-10-14 05:38:34 -0000 (Tue, 14 Oct 2025) EndedAt: 2025-10-14 05:40:17 -0000 (Tue, 14 Oct 2025) EllapsedTime: 103.1 seconds RetCode: 0 Status: OK PackageFile: VCFArray_1.24.0.tar.gz PackageFileSize: 368.6 KiB