Package: StructuralVariantAnnotation Version: 1.24.0 Command: /home/biocbuild/bbs-3.21-bioc/R/bin/R CMD INSTALL StructuralVariantAnnotation StartedAt: 2025-10-08 15:49:28 -0400 (Wed, 08 Oct 2025) EndedAt: 2025-10-08 15:50:09 -0400 (Wed, 08 Oct 2025) EllapsedTime: 40.6 seconds RetCode: 0 Status: OK