Package: StructuralVariantAnnotation Version: 1.24.0 Command: /Library/Frameworks/R.framework/Resources/bin/R CMD INSTALL StructuralVariantAnnotation StartedAt: 2025-09-29 18:02:10 -0400 (Mon, 29 Sep 2025) EndedAt: 2025-09-29 18:03:00 -0400 (Mon, 29 Sep 2025) EllapsedTime: 49.6 seconds RetCode: 0 Status: OK