Package: StructuralVariantAnnotation Version: 1.24.0 Command: /Library/Frameworks/R.framework/Resources/bin/R CMD build --keep-empty-dirs --no-resave-data StructuralVariantAnnotation StartedAt: 2025-09-30 10:31:33 -0400 (Tue, 30 Sep 2025) EndedAt: 2025-09-30 10:33:11 -0400 (Tue, 30 Sep 2025) EllapsedTime: 98.3 seconds RetCode: 0 Status: OK PackageFile: StructuralVariantAnnotation_1.24.0.tar.gz PackageFileSize: 964.8 KiB