Package: StructuralVariantAnnotation Version: 1.24.0 Command: rm -rf StructuralVariantAnnotation.buildbin-libdir && mkdir StructuralVariantAnnotation.buildbin-libdir && /Users/biocbuild/BBS/utils/build-universal.sh StructuralVariantAnnotation_1.24.0.tar.gz /Library/Frameworks/R.framework/Resources/bin/R StructuralVariantAnnotation.buildbin-libdir StartedAt: 2025-10-01 20:44:18 -0400 (Wed, 01 Oct 2025) EndedAt: 2025-10-01 20:45:12 -0400 (Wed, 01 Oct 2025) EllapsedTime: 54.1 seconds RetCode: 0 Status: OK PackageFile: StructuralVariantAnnotation_1.24.0.tgz PackageFileSize: 1.071 MiB