Package: SparseArray Version: 1.8.1 Command: /home/biocbuild/bbs-3.21-bioc/R/bin/R CMD build --keep-empty-dirs --no-resave-data SparseArray StartedAt: 2025-10-15 20:01:38 -0400 (Wed, 15 Oct 2025) EndedAt: 2025-10-15 20:02:35 -0400 (Wed, 15 Oct 2025) EllapsedTime: 57.0 seconds RetCode: 0 Status: OK PackageFile: SparseArray_1.8.1.tar.gz PackageFileSize: 456.3 KiB