Package: SparseArray Version: 1.8.1 Command: /Library/Frameworks/R.framework/Resources/bin/R CMD INSTALL SparseArray StartedAt: 2025-10-13 15:40:15 -0400 (Mon, 13 Oct 2025) EndedAt: 2025-10-13 15:40:51 -0400 (Mon, 13 Oct 2025) EllapsedTime: 36.7 seconds RetCode: 0 Status: OK