Package: SparseArray Version: 1.8.1 Command: /Library/Frameworks/R.framework/Resources/bin/R CMD build --keep-empty-dirs --no-resave-data SparseArray StartedAt: 2025-10-14 09:59:54 -0400 (Tue, 14 Oct 2025) EndedAt: 2025-10-14 10:01:04 -0400 (Tue, 14 Oct 2025) EllapsedTime: 69.4 seconds RetCode: 0 Status: OK PackageFile: SparseArray_1.8.1.tar.gz PackageFileSize: 456.4 KiB