Package: SparseArray Version: 1.8.1 Command: rm -rf SparseArray.buildbin-libdir && mkdir SparseArray.buildbin-libdir && /Users/biocbuild/BBS/utils/build-universal.sh SparseArray_1.8.1.tar.gz /Library/Frameworks/R.framework/Resources/bin/R SparseArray.buildbin-libdir StartedAt: 2025-10-15 20:37:55 -0400 (Wed, 15 Oct 2025) EndedAt: 2025-10-15 20:38:37 -0400 (Wed, 15 Oct 2025) EllapsedTime: 41.8 seconds RetCode: 0 Status: OK PackageFile: SparseArray_1.8.1.tgz PackageFileSize: 1.777 MiB