Package: SCArray.sat Version: 1.8.0 Command: /home/biocbuild/R/R/bin/R CMD INSTALL SCArray.sat StartedAt: 2025-10-13 21:14:09 -0000 (Mon, 13 Oct 2025) EndedAt: 2025-10-13 21:15:08 -0000 (Mon, 13 Oct 2025) EllapsedTime: 58.8 seconds RetCode: 0 Status: OK