Package: SCArray.sat Version: 1.8.0 Command: /home/biocbuild/R/R/bin/R CMD build --keep-empty-dirs --no-resave-data SCArray.sat StartedAt: 2025-10-14 04:20:40 -0000 (Tue, 14 Oct 2025) EndedAt: 2025-10-14 04:22:29 -0000 (Tue, 14 Oct 2025) EllapsedTime: 109.1 seconds RetCode: 0 Status: OK PackageFile: SCArray.sat_1.8.0.tar.gz PackageFileSize: 726.9 KiB