Package: Rvisdiff Version: 1.6.0 Command: E:\biocbuild\bbs-3.21-bioc\R\bin\R.exe CMD INSTALL Rvisdiff StartedAt: 2025-08-14 15:22:47 -0400 (Thu, 14 Aug 2025) EndedAt: 2025-08-14 15:22:57 -0400 (Thu, 14 Aug 2025) EllapsedTime: 9.9 seconds RetCode: 0 Status: OK