Package: MsBackendRawFileReader Version: 1.14.0 Command: /home/biocbuild/R/R/bin/R CMD INSTALL MsBackendRawFileReader StartedAt: 2025-09-29 20:27:33 -0000 (Mon, 29 Sep 2025) EndedAt: 2025-09-29 20:27:48 -0000 (Mon, 29 Sep 2025) EllapsedTime: 15.0 seconds RetCode: 0 Status: OK