Package: Modstrings Version: 1.24.0 Command: /home/biocbuild/bbs-3.21-bioc/R/bin/R CMD INSTALL Modstrings StartedAt: 2025-10-08 15:15:37 -0400 (Wed, 08 Oct 2025) EndedAt: 2025-10-08 15:15:55 -0400 (Wed, 08 Oct 2025) EllapsedTime: 17.5 seconds RetCode: 0 Status: OK