Package: Modstrings Version: 1.24.0 Command: /home/biocbuild/bbs-3.21-bioc/R/bin/R CMD build --keep-empty-dirs --no-resave-data Modstrings StartedAt: 2025-10-08 18:36:40 -0400 (Wed, 08 Oct 2025) EndedAt: 2025-10-08 18:37:15 -0400 (Wed, 08 Oct 2025) EllapsedTime: 35.1 seconds RetCode: 0 Status: OK PackageFile: Modstrings_1.24.0.tar.gz PackageFileSize: 823.6 KiB