Package: Modstrings Version: 1.24.0 Command: /Library/Frameworks/R.framework/Resources/bin/R CMD INSTALL Modstrings StartedAt: 2025-09-29 16:07:09 -0400 (Mon, 29 Sep 2025) EndedAt: 2025-09-29 16:07:29 -0400 (Mon, 29 Sep 2025) EllapsedTime: 19.4 seconds RetCode: 0 Status: OK