Package: Modstrings Version: 1.24.0 Command: rm -rf Modstrings.buildbin-libdir && mkdir Modstrings.buildbin-libdir && /Users/biocbuild/BBS/utils/build-universal.sh Modstrings_1.24.0.tar.gz /Library/Frameworks/R.framework/Resources/bin/R Modstrings.buildbin-libdir StartedAt: 2025-10-01 19:23:03 -0400 (Wed, 01 Oct 2025) EndedAt: 2025-10-01 19:23:26 -0400 (Wed, 01 Oct 2025) EllapsedTime: 23.7 seconds RetCode: 0 Status: OK PackageFile: Modstrings_1.24.0.tgz PackageFileSize: 1.348 MiB