Package: ModCon Version: 1.16.0 Command: /home/biocbuild/R/R/bin/R CMD INSTALL ModCon StartedAt: 2025-10-09 20:13:23 -0000 (Thu, 09 Oct 2025) EndedAt: 2025-10-09 20:13:34 -0000 (Thu, 09 Oct 2025) EllapsedTime: 10.4 seconds RetCode: 0 Status: OK