Package: ModCon Version: 1.16.0 Command: /home/biocbuild/R/R/bin/R CMD build --keep-empty-dirs --no-resave-data ModCon StartedAt: 2025-10-10 02:37:56 -0000 (Fri, 10 Oct 2025) EndedAt: 2025-10-10 02:40:29 -0000 (Fri, 10 Oct 2025) EllapsedTime: 153.1 seconds RetCode: 0 Status: OK PackageFile: ModCon_1.16.0.tar.gz PackageFileSize: 1.932 MiB