Package: MVCClass Version: 1.82.0 Command: /home/biocbuild/R/R/bin/R CMD INSTALL MVCClass StartedAt: 2025-10-13 20:16:18 -0000 (Mon, 13 Oct 2025) EndedAt: 2025-10-13 20:16:39 -0000 (Mon, 13 Oct 2025) EllapsedTime: 20.6 seconds RetCode: 0 Status: OK