Package: EBarrays Version: 2.72.0 Command: /home/biocbuild/R/R/bin/R CMD INSTALL EBarrays StartedAt: 2025-10-02 20:24:14 -0000 (Thu, 02 Oct 2025) EndedAt: 2025-10-02 20:24:21 -0000 (Thu, 02 Oct 2025) EllapsedTime: 6.9 seconds RetCode: 0 Status: OK