Package: EBarrays Version: 2.72.0 Command: /home/biocbuild/R/R/bin/R CMD build --keep-empty-dirs --no-resave-data EBarrays StartedAt: 2025-09-30 00:47:24 -0000 (Tue, 30 Sep 2025) EndedAt: 2025-09-30 00:47:51 -0000 (Tue, 30 Sep 2025) EllapsedTime: 27.0 seconds RetCode: 0 Status: OK PackageFile: EBarrays_2.72.0.tar.gz PackageFileSize: 1.027 MiB