Package: DelayedTensor Version: 1.14.0 Command: /home/biocbuild/R/R/bin/R CMD build --keep-empty-dirs --no-resave-data DelayedTensor StartedAt: 2025-10-14 00:15:03 -0000 (Tue, 14 Oct 2025) EndedAt: 2025-10-14 00:17:59 -0000 (Tue, 14 Oct 2025) EllapsedTime: 176.0 seconds RetCode: 0 Status: OK PackageFile: DelayedTensor_1.14.0.tar.gz PackageFileSize: 4.385 MiB