Package: DelayedMatrixStats Version: 1.30.0 Command: /home/biocbuild/R/R/bin/R CMD INSTALL DelayedMatrixStats StartedAt: 2025-09-29 20:35:36 -0000 (Mon, 29 Sep 2025) EndedAt: 2025-09-29 20:36:06 -0000 (Mon, 29 Sep 2025) EllapsedTime: 30.0 seconds RetCode: 0 Status: OK