Package: DelayedArray Version: 0.34.1 Command: /home/biocbuild/bbs-3.21-bioc/R/bin/R CMD INSTALL DelayedArray StartedAt: 2025-10-15 15:14:43 -0400 (Wed, 15 Oct 2025) EndedAt: 2025-10-15 15:15:12 -0400 (Wed, 15 Oct 2025) EllapsedTime: 28.8 seconds RetCode: 0 Status: OK