Package: DelayedArray Version: 0.34.1 Command: rm -rf DelayedArray.buildbin-libdir && mkdir DelayedArray.buildbin-libdir && /Users/biocbuild/BBS/utils/build-universal.sh DelayedArray_0.34.1.tar.gz /Library/Frameworks/R.framework/Resources/bin/R DelayedArray.buildbin-libdir StartedAt: 2025-10-14 13:13:21 -0400 (Tue, 14 Oct 2025) EndedAt: 2025-10-14 13:15:36 -0400 (Tue, 14 Oct 2025) EllapsedTime: 135.2 seconds RetCode: 0 Status: OK PackageFile: DelayedArray_0.34.1.tgz PackageFileSize: 2.446 MiB