Package: DelayedArray Version: 0.34.1 Command: /home/biocbuild/R/R/bin/R CMD INSTALL DelayedArray StartedAt: 2025-09-25 20:28:34 -0000 (Thu, 25 Sep 2025) EndedAt: 2025-09-25 20:29:18 -0000 (Thu, 25 Sep 2025) EllapsedTime: 44.4 seconds RetCode: 0 Status: OK