Package: DelayedArray Version: 0.34.1 Command: /Library/Frameworks/R.framework/Resources/bin/R CMD INSTALL DelayedArray StartedAt: 2025-10-13 15:40:51 -0400 (Mon, 13 Oct 2025) EndedAt: 2025-10-13 15:41:24 -0400 (Mon, 13 Oct 2025) EllapsedTime: 32.6 seconds RetCode: 0 Status: OK