Package: BufferedMatrixMethods Version: 1.72.0 Command: /home/biocbuild/R/R/bin/R CMD INSTALL BufferedMatrixMethods StartedAt: 2025-09-29 20:14:09 -0000 (Mon, 29 Sep 2025) EndedAt: 2025-09-29 20:14:31 -0000 (Mon, 29 Sep 2025) EllapsedTime: 22.6 seconds RetCode: 0 Status: OK