Package: BioMVCClass Version: 1.76.0 Command: /Library/Frameworks/R.framework/Resources/bin/R CMD INSTALL BioMVCClass StartedAt: 2025-10-06 15:40:48 -0400 (Mon, 06 Oct 2025) EndedAt: 2025-10-06 15:40:54 -0400 (Mon, 06 Oct 2025) EllapsedTime: 5.9 seconds RetCode: 0 Status: OK