| Back to Build/check report for BioC 3.18 annotations |
This page was generated on 2024-04-17 08:30:07 -0400 (Wed, 17 Apr 2024).
| Hostname: | nebbiolo2 |
| OS: | Linux (Ubuntu 22.04.3 LTS) |
| Arch: | x86_64 |
| Platform: | x86_64-linux-gnu |
| R version: | 4.3.3 (2024-02-29) -- "Angel Food Cake" |
| R environment variables: | Renviron.bioc |
| R variable (VAR) | Value ('R CMD config <VAR>' output) |
| CC | gcc |
| CFLAGS | -g -O2 -Wall |
| CPICFLAGS | -fpic |
| Please refer to 'R CMD config -h' for the meaning of these variables | |
Compiler version ('gcc --version' output):
gcc (Ubuntu 11.4.0-1ubuntu1~22.04) 11.4.0 Copyright (C) 2021 Free Software Foundation, Inc. This is free software; see the source for copying conditions. There is NO warranty; not even for MERCHANTABILITY or FITNESS FOR A PARTICULAR PURPOSE.
| R variable (VAR) | Value ('R CMD config <VAR>' output) |
| CXX | g++ -std=gnu++17 |
| CXXFLAGS | -g -O2 -Wall |
| CXXPICFLAGS | -fpic |
| Please refer to 'R CMD config -h' for the meaning of these variables | |
Compiler version ('g++ -std=gnu++17 --version' output):
g++ (Ubuntu 11.4.0-1ubuntu1~22.04) 11.4.0 Copyright (C) 2021 Free Software Foundation, Inc. This is free software; see the source for copying conditions. There is NO warranty; not even for MERCHANTABILITY or FITNESS FOR A PARTICULAR PURPOSE.
| R variable (VAR) | Value ('R CMD config <VAR>' output) |
| CXX11 | g++ |
| CXX11FLAGS | -g -O2 -Wall |
| CXX11PICFLAGS | -fpic |
| CXX11STD | -std=gnu++11 |
| Please refer to 'R CMD config -h' for the meaning of these variables | |
Compiler version ('g++ --version' output):
g++ (Ubuntu 11.4.0-1ubuntu1~22.04) 11.4.0 Copyright (C) 2021 Free Software Foundation, Inc. This is free software; see the source for copying conditions. There is NO warranty; not even for MERCHANTABILITY or FITNESS FOR A PARTICULAR PURPOSE.
| R variable (VAR) | Value ('R CMD config <VAR>' output) |
| CXX14 | g++ |
| CXX14FLAGS | -g -O2 -Wall |
| CXX14PICFLAGS | -fpic |
| CXX14STD | -std=gnu++14 |
| Please refer to 'R CMD config -h' for the meaning of these variables | |
Compiler version ('g++ --version' output):
g++ (Ubuntu 11.4.0-1ubuntu1~22.04) 11.4.0 Copyright (C) 2021 Free Software Foundation, Inc. This is free software; see the source for copying conditions. There is NO warranty; not even for MERCHANTABILITY or FITNESS FOR A PARTICULAR PURPOSE.
| R variable (VAR) | Value ('R CMD config <VAR>' output) |
| CXX17 | g++ |
| CXX17FLAGS | -g -O2 -Wall |
| CXX17PICFLAGS | -fpic |
| CXX17STD | -std=gnu++17 |
| Please refer to 'R CMD config -h' for the meaning of these variables | |
Compiler version ('g++ --version' output):
g++ (Ubuntu 11.4.0-1ubuntu1~22.04) 11.4.0 Copyright (C) 2021 Free Software Foundation, Inc. This is free software; see the source for copying conditions. There is NO warranty; not even for MERCHANTABILITY or FITNESS FOR A PARTICULAR PURPOSE.
java version ('java --version' output):
openjdk 11.0.22 2024-01-16 OpenJDK Runtime Environment (build 11.0.22+7-post-Ubuntu-0ubuntu222.04.1) OpenJDK 64-Bit Server VM (build 11.0.22+7-post-Ubuntu-0ubuntu222.04.1, mixed mode, sharing)
pandoc version ('pandoc --version' output):
pandoc 2.7.3 Compiled with pandoc-types 1.17.5.4, texmath 0.11.2.2, skylighting 0.8.1 Default user data directory: /home/biocbuild/.local/share/pandoc or /home/biocbuild/.pandoc Copyright (C) 2006-2019 John MacFarlane Web: http://pandoc.org This is free software; see the source for copying conditions. There is no warranty, not even for merchantability or fitness for a particular purpose.
More information might be added in the future...