Package: qvalue Version: 2.34.0 Command: /home/hpages/bbs-3.18-bioc-R41/R/bin/R CMD build --keep-empty-dirs --no-resave-data qvalue StartedAt: 2024-03-08 15:47:49 -0500 (Fri, 08 Mar 2024) EndedAt: 2024-03-08 15:48:04 -0500 (Fri, 08 Mar 2024) EllapsedTime: 14.9 seconds RetCode: 0 Status: OK PackageFile: qvalue_2.34.0.tar.gz PackageFileSize: 2.64 MiB