Package: SummarizedExperiment Version: 1.32.0 Command: /home/hpages/bbs-3.18-bioc-R41/R/bin/R CMD build --keep-empty-dirs --no-resave-data SummarizedExperiment StartedAt: 2024-03-08 15:51:42 -0500 (Fri, 08 Mar 2024) EndedAt: 2024-03-08 15:52:29 -0500 (Fri, 08 Mar 2024) EllapsedTime: 46.5 seconds RetCode: 0 Status: OK PackageFile: SummarizedExperiment_1.32.0.tar.gz PackageFileSize: 669.8 KiB