Package: IRanges Version: 2.37.0 Command: /home/biocbuild/bbs-3.18-bioc/R/bin/Rscript -e "BiocCheck::BiocCheck('IRanges_2.37.0.tar.gz')" StartedAt: 2023-10-24 10:47:19 -0400 (Tue, 24 Oct 2023) EndedAt: 2023-10-24 10:48:50 -0400 (Tue, 24 Oct 2023) EllapsedTime: 90.2 seconds RetCode: None Status: ERROR Warnings: 2