Package: DelayedArray Version: 0.28.0 Command: /Library/Frameworks/R.framework/Resources/bin/R CMD build --keep-empty-dirs --no-resave-data DelayedArray StartedAt: 2024-03-03 16:28:22 -0500 (Sun, 03 Mar 2024) EndedAt: 2024-03-03 16:29:48 -0500 (Sun, 03 Mar 2024) EllapsedTime: 85.3 seconds RetCode: 0 Status: OK PackageFile: DelayedArray_0.28.0.tar.gz PackageFileSize: 788.1 KiB