Package: DelayedArray Version: 0.28.0 Command: rm -rf DelayedArray.buildbin-libdir && mkdir DelayedArray.buildbin-libdir && /Users/biocbuild/BBS/utils/build-universal.sh DelayedArray_0.28.0.tar.gz /Library/Frameworks/R.framework/Resources/bin/R DelayedArray.buildbin-libdir StartedAt: 2024-03-04 00:37:28 -0500 (Mon, 04 Mar 2024) EndedAt: 2024-03-04 00:38:15 -0500 (Mon, 04 Mar 2024) EllapsedTime: 47.6 seconds RetCode: 0 Status: OK PackageFile: DelayedArray_0.28.0.tgz PackageFileSize: 2.394 MiB