Package: DelayedArray Version: 0.28.0 Command: /home/biocbuild/R/R-4.3.1/bin/R CMD INSTALL DelayedArray StartedAt: 2023-11-01 20:11:17 -0000 (Wed, 01 Nov 2023) EndedAt: 2023-11-01 20:12:01 -0000 (Wed, 01 Nov 2023) EllapsedTime: 43.8 seconds RetCode: 0 Status: OK