Package: CNORfuzzy Version: 1.44.0 Command: /home/biocbuild/bbs-3.18-bioc/R/bin/R CMD build --keep-empty-dirs --no-resave-data CNORfuzzy StartedAt: 2024-04-15 16:31:55 -0400 (Mon, 15 Apr 2024) EndedAt: 2024-04-15 16:32:14 -0400 (Mon, 15 Apr 2024) EllapsedTime: 18.5 seconds RetCode: 0 Status: OK PackageFile: CNORfuzzy_1.44.0.tar.gz PackageFileSize: 917.3 KiB