Package: BufferedMatrixMethods Version: 1.66.0 Command: /home/biocbuild/R/R-4.3.1/bin/R CMD INSTALL BufferedMatrixMethods StartedAt: 2023-11-01 20:07:48 -0000 (Wed, 01 Nov 2023) EndedAt: 2023-11-01 20:08:17 -0000 (Wed, 01 Nov 2023) EllapsedTime: 28.7 seconds RetCode: 0 Status: OK