Package: zenith Version: 1.1.1 Command: /home/biocbuild/bbs-3.17-bioc/R/bin/R CMD build --keep-empty-dirs --no-resave-data zenith StartedAt: 2023-04-12 04:29:59 -0400 (Wed, 12 Apr 2023) EndedAt: 2023-04-12 04:31:08 -0400 (Wed, 12 Apr 2023) EllapsedTime: 69.6 seconds RetCode: 0 Status: OK PackageFile: zenith_1.1.1.tar.gz PackageFileSize: 4.125 MiB