Package: trio Version: 3.37.0 Command: /home/biocbuild/bbs-3.17-bioc/R/bin/R CMD build --keep-empty-dirs --no-resave-data trio StartedAt: 2023-04-12 04:25:24 -0400 (Wed, 12 Apr 2023) EndedAt: 2023-04-12 04:26:11 -0400 (Wed, 12 Apr 2023) EllapsedTime: 47.2 seconds RetCode: 0 Status: OK PackageFile: trio_3.37.0.tar.gz PackageFileSize: 683.6 KiB